BEGIN:VCALENDAR
VERSION:2.0
PRODID:-//ChamberMaster//Event Calendar 2.0//EN
METHOD:PUBLISH
X-PUBLISHED-TTL:P3D
REFRESH-INTERVAL:P3D
CALSCALE:GREGORIAN
BEGIN:VEVENT
DTSTART:20121030T003000Z
DTEND:20121030T030000Z
X-MICROSOFT-CDO-ALLDAYEVENT:FALSE
SUMMARY:Boy Scouts
DESCRIPTION:Every Monday 7:30 Boy Scouts meet at the Scout Center 259 S. McCambell on Wilson St.
X-ALT-DESC;FMTTYPE=text/html:Every Monday 7:30 Boy Scouts meet at the Scout Center 259 S. McCambell on Wilson St. 
LOCATION:
UID:e.1295.112
SEQUENCE:3
DTSTAMP:20260421T140231Z
URL:http://aransaspass.chambermaster.com/events/details/boy-scouts-10-29-2012-112
END:VEVENT

END:VCALENDAR
