BEGIN:VCALENDAR
VERSION:2.0
PRODID:-//ChamberMaster//Event Calendar 2.0//EN
METHOD:PUBLISH
X-PUBLISHED-TTL:P3D
REFRESH-INTERVAL:P3D
CALSCALE:GREGORIAN
BEGIN:VEVENT
DTSTART:20121113T013000Z
DTEND:20121113T040000Z
X-MICROSOFT-CDO-ALLDAYEVENT:FALSE
SUMMARY:Boy Scouts
DESCRIPTION:Every Monday 7:30 Boy Scouts meet at the Scout Center 259 S. McCambell on Wilson St.
X-ALT-DESC;FMTTYPE=text/html:Every Monday 7:30 Boy Scouts meet at the Scout Center 259 S. McCambell on Wilson St. 
LOCATION:
UID:e.1295.114
SEQUENCE:3
DTSTAMP:20260420T174432Z
URL:http://aransaspass.chambermaster.com/events/details/boy-scouts-11-12-2012-114
END:VEVENT

END:VCALENDAR
